Workbook

Sheet はじめに
B1: (記入上の注意)
B3: ◎ 入力シート以外のご記入はお控えください。
B4: ◎ シングルス、ダブルスの両方に出場できます。
B5: ◎ 30人以上または、30ペア以上いる場合にはシートを増やさず、 ２つ目の申込書を作成してください。
B6: ◎ コーチを書く欄は８名分ですが、８名以上コーチがいるチームは全員ベンチ入りして構いません。 ＊保護者コーチはベンチ入りできますが、コーチでない保護者の方はベンチ入りできません。 ＊各チームで徹底してください。
B7: ◎ 今大会の申し込みはメールのみでよいです。 申込書(紙媒体)の提出は必要ありません。
B8: 申込〆切 11/22(金)19：00
B10: (宿泊調査について)
B11: ◎ 宿泊調査へのご協力をお願いいたします。
B12: ◎ 今大会での宿泊予定の選手・監督・コーチ・保護者含む宿泊数と宿泊場所を教えてください。
B13: ◎ 複数宿泊施設での宿泊の場合もご記入ください。
B15: よろしくお願いいたします。

Sheet 入力シート
A1: 令和８年度（第3６回）大分県中学生バドミントン大会 参加申込書
A3: ふ り が な | M3: チーム代表者 ふ り が な | X3: ・部活動は校長名 ・部活動以外は代表者名
A4: 正式なチーム名 | C4: 日田市立津江中学校 | M4: チーム代表者氏名 | O4: 江藤 裕也
A5: プログラム掲載 チーム名 ＊原則、ゼッケン名かつ９文字以内。 | E5: 富来中 | M5: 本大会の監督 ふ り が な | X5: ・チーム指導者の中で本大会の 監督をされる方を記載
M6: 本大会の監督氏名
A7: 【正式なチーム名の例】『日田市立津江中学校』の場合 | M7: 本大会の監督者 連 絡 先 | O7: TEL | S7: E-mail
A8: (正式なチーム名) ◎日田市立津江中学校 ✕津江中
A9: 【プログラム掲載チーム名の例】『津江中学』というゼッケンの場合
A10: (プログラム掲載チーム名) ◎津江中学 ✕津江中 ✕津江中学校
A12: （入力時のお願い) ①選手名の記載順はチーム内ランキング順とします。 ②姓と名の間に全角スペース１マス文
A14: 男子シングルス | G14: 女子シングルス | M14: 男子ダブルス | U14: 女子ダブルス
A15: 番号 | B15: ふ り が な | E15: 学年 | G15: 番号 | H15: ふ り が な | K15: 学年 | M15: 番号 | N15: ふ り が な | P15: 学年 | Q15: ふ り が な | T15: 学年 | U15: 番号 | V15: ふ り が な | X15: 学年 | Y15: ふ り が な | AB15: 学年
B16: 選 手 氏 名 | H16: 選 手 氏 名 | N16: 選 手 氏 名 | Q16: 選 手 氏 名 | V16: 選 手 氏 名 | Y16: 選 手 氏 名
A17: 1 | G17: 1 | M17: 1 | U17: 1
A19: 2 | G19: 2 | M19: 2 | U19: 2
A21: 3 | G21: 3 | M21: 3 | U21: 3
A23: 4 | G23: 4 | M23: 4 | U23: 4
A25: 5 | G25: 5 | M25: 5 | U25: 5
A27: 6 | G27: 6 | M27: 6 | U27: 6
A29: 7 | G29: 7 | M29: 7 | U29: 7
A31: 8 | G31: 8 | M31: 8 | U31: 8
A33: 9 | G33: 9 | M33: 9 | U33: 9
A35: 10 | G35: 10 | M35: 10 | U35: 10
A37: 11 | G37: 11 | M37: 11 | U37: 11
A39: 12 | G39: 12 | M39: 12 | U39: 12
... A75: 30 | G75: 30 | M75: 30 | U75: 30
A78: 【会計】 | C78: シングルス（ ）人×1,500円＋ダブルス（ ）ペア×3,000円＝合計（￥ 円）
A79: エクセルで入力し、そのファイルをメールで送信 → | I79: etou-yuuya@oen.ed.jp | N79: ●ファイル名は『チーム名』とすること （例）「津江中」、「つえクラブ」
B80: 上に記載の選手は、今年度日本バドミントン協会及び大分県バドミントン協会の登録済である。上に記載の選手は、本競技大会の参加申し込みに際し、大会要項に記載の内容を確認し同意を得ています。又、大会に関わるすべての人は、大会要項及び大会運営に協力することに同意します。 | X80: 令和8年 月 日
X81: =C4 -> 日田市立津江中学校 | AA81: =O4 -> 江藤 裕也

Sheet Sheet1

Sheet 個人プロ● さわらない
A3: 男子シングルス | F3: 女子シングルス | K3: 男子ダブルス | P3: 女子ダブルス
A4: 校内順位 | B4: 選手氏名 | C4: 学年 | D4: チーム名 | F4: 校内順位 | G4: 選手氏名 | H4: 学年 | I4: チーム名 | K4: 順位 | L4: 選手氏名 | M4: 学年 | N4: 学校名 | P4: 順位 | Q4: 選手氏名 | R4: 学年 | S4: 学校名
A5: １位 | B5: =入力シート!B17 -> 0 | C5: =入力シート!E17 -> 0 | D5: =入力シート!E5 -> 富来中 | F5: １位 | G5: =入力シート!H17 -> 0 | H5: =入力シート!K17 -> 0 | I5: =入力シート!E5 -> 富来中 | K5: １位 | L5: =入力シート!N17 -> 0 | M5: =入力シート!P17 -> 0 | N5: =入力シート!E5 -> 富来中 | P5: １位 | Q5: =入力シート!V17 -> 0 | R5: =入力シート!X17 -> 0 | S5: =D5 -> 富来中
B6: =入力シート!B18 -> 0 | G6: =入力シート!H18 -> 0 | L6: =入力シート!N18 -> 0 | Q6: =入力シート!V18 -> 0
A7: ２位 | B7: =入力シート!B19 -> 0 | C7: =入力シート!E19 -> 0 | D7: =D5 -> 富来中 | F7: ２位 | G7: =入力シート!H19 -> 0 | H7: =入力シート!K19 -> 0 | I7: =I5 -> 富来中 | L7: =入力シート!Q17 -> 0 | M7: =入力シート!T17 -> 0 | N7: =N5 -> 富来中 | Q7: =入力シート!Y17 -> 0 | R7: =入力シート!AB17 -> 0 | S7: =S5 -> 富来中
B8: =入力シート!B20 -> 0 | G8: =入力シート!H20 -> 0 | L8: =入力シート!Q18 -> 0 | Q8: =入力シート!Y18 -> 0
A9: ３位 | B9: =入力シート!B21 -> 0 | C9: =入力シート!E21 -> 0 | D9: =D5 -> 富来中 | F9: ３位 | G9: =入力シート!H21 -> 0 | H9: =入力シート!K21 -> 0 | I9: =I5 -> 富来中 | K9: ２位 | L9: =入力シート!N19 -> 0 | M9: =入力シート!P19 -> 0 | N9: =N5 -> 富来中 | P9: ２位 | Q9: =入力シート!V19 -> 0 | R9: =入力シート!X19 -> 0 | S9: =S5 -> 富来中
B10: =入力シート!B22 -> 0 | G10: =入力シート!H22 -> 0 | L10: =入力シート!N20 -> 0 | Q10: =入力シート!V20 -> 0
A11: ４位 | B11: =入力シート!B23 -> 0 | C11: =入力シート!E23 -> 0 | D11: =D5 -> 富来中 | F11: ４位 | G11: =入力シート!H23 -> 0 | H11: =入力シート!K23 -> 0 | I11: =I5 -> 富来中 | L11: =入力シート!Q19 -> 0 | M11: =入力シート!T19 -> 0 | N11: =N5 -> 富来中 | Q11: =入力シート!Y19 -> 0 | R11: =入力シート!AB19 -> 0 | S11: =S5 -> 富来中
B12: =入力シート!B24 -> 0 | G12: =入力シート!H24 -> 0 | L12: =入力シート!Q20 -> 0 | Q12: =入力シート!Y20 -> 0
A13: ５位 | B13: =入力シート!B25 -> 0 | C13: =入力シート!E25 -> 0 | D13: =D5 -> 富来中 | F13: ５位 | G13: =入力シート!H25 -> 0 | H13: =入力シート!K25 -> 0 | I13: =I5 -> 富来中 | K13: ３位 | L13: =入力シート!N21 -> 0 | M13: =入力シート!P21 -> 0 | N13: =N5 -> 富来中 | P13: ３位 | Q13: =入力シート!V21 -> 0 | R13: =入力シート!X21 -> 0 | S13: =S5 -> 富来中
B14: =入力シート!B26 -> 0 | G14: =入力シート!H26 -> 0 | L14: =入力シート!N22 -> 0 | Q14: =入力シート!V22 -> 0
A15: ６位 | B15: =入力シート!B27 -> 0 | C15: =入力シート!E27 -> 0 | D15: =D5 -> 富来中 | F15: ６位 | G15: =入力シート!H27 -> 0 | H15: =入力シート!K27 -> 0 | I15: =I5 -> 富来中 | L15: =入力シート!Q21 -> 0 | M15: =入力シート!T21 -> 0 | N15: =N5 -> 富来中 | Q15: =入力シート!Y21 -> 0 | R15: =入力シート!AB21 -> 0 | S15: =S5 -> 富来中
B16: =入力シート!B28 -> 0 | G16: =入力シート!H28 -> 0 | L16: =入力シート!Q22 -> 0 | Q16: =入力シート!Y22 -> 0
A17: ７位 | B17: =入力シート!B29 -> 0 | C17: =入力シート!E29 -> 0 | D17: =D5 -> 富来中 | F17: ７位 | G17: =入力シート!H29 -> 0 | H17: =入力シート!K29 -> 0 | I17: =I5 -> 富来中 | K17: ４位 | L17: =入力シート!N23 -> 0 | M17: =入力シート!P23 -> 0 | N17: =N5 -> 富来中 | P17: ４位 | Q17: =入力シート!V23 -> 0 | R17: =入力シート!X23 -> 0 | S17: =S5 -> 富来中
B18: =入力シート!B30 -> 0 | G18: =入力シート!H30 -> 0 | L18: =入力シート!N24 -> 0 | Q18: =入力シート!V24 -> 0
A19: ８位 | B19: =入力シート!B31 -> 0 | C19: =入力シート!E31 -> 0 | D19: =D5 -> 富来中 | F19: ８位 | G19: =入力シート!H31 -> 0 | H19: =入力シート!K31 -> 0 | I19: =I5 -> 富来中 | L19: =入力シート!Q23 -> 0 | M19: =入力シート!T23 -> 0 | N19: =N5 -> 富来中 | Q19: =入力シート!Y23 -> 0 | R19: =入力シート!AB23 -> 0 | S19: =S5 -> 富来中
B20: =入力シート!B32 -> 0 | G20: =入力シート!H32 -> 0 | L20: =入力シート!Q24 -> 0 | Q20: =入力シート!Y24 -> 0
A21: ９位 | B21: =入力シート!B33 -> 0 | C21: =入力シート!E33 -> 0 | D21: =D5 -> 富来中 | F21: ９位 | G21: =入力シート!H33 -> 0 | H21: =入力シート!K33 -> 0 | I21: =I5 -> 富来中 | K21: ５位 | L21: =入力シート!N25 -> 0 | M21: =入力シート!P25 -> 0 | N21: =N5 -> 富来中 | P21: ５位 | Q21: =入力シート!V25 -> 0 | R21: =入力シート!X25 -> 0 | S21: =S5 -> 富来中
B22: =入力シート!B34 -> 0 | G22: =入力シート!H34 -> 0 | L22: =入力シート!N26 -> 0 | Q22: =入力シート!V26 -> 0
A23: １０位 | B23: =入力シート!B35 -> 0 | C23: =入力シート!E35 -> 0 | D23: =D5 -> 富来中 | F23: １０位 | G23: =入力シート!H35 -> 0 | H23: =入力シート!K35 -> 0 | I23: =I5 -> 富来中 | L23: =入力シート!Q25 -> 0 | M23: =入力シート!T25 -> 0 | N23: =N5 -> 富来中 | Q23: =入力シート!Y25 -> 0 | R23: =入力シート!AB25 -> 0 | S23: =S5 -> 富来中
B24: =入力シート!B36 -> 0 | G24: =入力シート!H36 -> 0 | L24: =入力シート!Q26 -> 0 | Q24: =入力シート!Y26 -> 0
A25: １１位 | B25: =入力シート!B37 -> 0 | C25: =入力シート!E37 -> 0 | D25: =D5 -> 富来中 | F25: １１位 | G25: =入力シート!H37 -> 0 | H25: =入力シート!K37 -> 0 | I25: =I5 -> 富来中 | K25: ６位 | L25: =入力シート!N27 -> 0 | M25: =入力シート!P27 -> 0 | N25: =N5 -> 富来中 | P25: ６位 | Q25: =入力シート!V27 -> 0 | R25: =入力シート!X27 -> 0 | S25: =S5 -> 富来中
B26: =入力シート!B38 -> 0 | G26: =入力シート!H38 -> 0 | L26: =入力シート!N28 -> 0 | Q26: =入力シート!V28 -> 0
A27: １２位 | B27: =入力シート!B39 -> 0 | C27: =入力シート!E39 -> 0 | D27: =D5 -> 富来中 | F27: １２位 | G27: =入力シート!H39 -> 0 | H27: =入力シート!K39 -> 0 | I27: =I5 -> 富来中 | L27: =入力シート!Q27 -> 0 | M27: =入力シート!T27 -> 0 | N27: =N5 -> 富来中 | Q27: =入力シート!Y27 -> 0 | R27: =入力シート!AB27 -> 0 | S27: =S5 -> 富来中
B28: =入力シート!B40 -> 0 | G28: =入力シート!H40 -> 0 | L28: =入力シート!Q28 -> 0 | Q28: =入力シート!Y28 -> 0
A29: １３位 | B29: =入力シート!B41 -> 0 | C29: =入力シート!E41 -> 0 | D29: =D5 -> 富来中 | F29: １３位 | G29: =入力シート!H41 -> 0 | H29: =入力シート!K41 -> 0 | I29: =I5 -> 富来中 | K29: ７位 | L29: =入力シート!N29 -> 0 | M29: =入力シート!P29 -> 0 | N29: =N5 -> 富来中 | P29: ７位 | Q29: =入力シート!V29 -> 0 | R29: =入力シート!X29 -> 0 | S29: =S5 -> 富来中
B30: =入力シート!B42 -> 0 | G30: =入力シート!H42 -> 0 | L30: =入力シート!N30 -> 0 | Q30: =入力シート!V30 -> 0
A31: １４位 | B31: =入力シート!B43 -> 0 | C31: =入力シート!E43 -> 0 | D31: =D5 -> 富来中 | F31: １４位 | G31: =入力シート!H43 -> 0 | H31: =入力シート!K43 -> 0 | I31: =I5 -> 富来中 | L31: =入力シート!Q29 -> 0 | M31: =入力シート!T29 -> 0 | N31: =N5 -> 富来中 | Q31: =入力シート!Y29 -> 0 | R31: =入力シート!AB29 -> 0 | S31: =S5 -> 富来中
B32: =入力シート!B44 -> 0 | G32: =入力シート!H44 -> 0 | L32: =入力シート!Q30 -> 0 | Q32: =入力シート!Y30 -> 0
A33: １５位 | B33: =入力シート!B45 -> 0 | C33: =入力シート!E45 -> 0 | D33: =D5 -> 富来中 | F33: １５位 | G33: =入力シート!H45 -> 0 | H33: =入力シート!K45 -> 0 | I33: =I5 -> 富来中 | K33: ８位 | L33: =入力シート!N31 -> 0 | M33: =入力シート!P31 -> 0 | N33: =N5 -> 富来中 | P33: ８位 | Q33: =入力シート!V31 -> 0 | R33: =入力シート!X31 -> 0 | S33: =S5 -> 富来中
B34: =入力シート!B46 -> 0 | G34: =入力シート!H46 -> 0 | L34: =入力シート!N32 -> 0 | Q34: =入力シート!V32 -> 0
A35: １６位 | B35: =入力シート!B47 -> 0 | C35: =入力シート!E47 -> 0 | D35: =D5 -> 富来中 | F35: １６位 | G35: =入力シート!H47 -> 0 | H35: =入力シート!K47 -> 0 | I35: =I5 -> 富来中 | L35: =入力シート!Q31 -> 0 | M35: =入力シート!T31 -> 0 | N35: =N5 -> 富来中 | Q35: =入力シート!Y31 -> 0 | R35: =入力シート!AB31 -> 0 | S35: =S5 -> 富来中
B36: =入力シート!B48 -> 0 | G36: =入力シート!H48 -> 0 | L36: =入力シート!Q32 -> 0 | Q36: =入力シート!Y32 -> 0
A37: １７位 | B37: =入力シート!B49 -> 0 | C37: =入力シート!E49 -> 0 | D37: =D5 -> 富来中 | F37: １７位 | G37: =入力シート!H49 -> 0 | H37: =入力シート!K49 -> 0 | I37: =I5 -> 富来中 | K37: ９位 | L37: =入力シート!N33 -> 0 | M37: =入力シート!P33 -> 0 | N37: =N5 -> 富来中 | P37: ９位 | Q37: =入力シート!V33 -> 0 | R37: =入力シート!X33 -> 0 | S37: =S5 -> 富来中
B38: =入力シート!B50 -> 0 | G38: =入力シート!H50 -> 0 | L38: =入力シート!N34 -> 0 | Q38: =入力シート!V34 -> 0
A39: １８位 | B39: =入力シート!B51 -> 0 | C39: =入力シート!E51 -> 0 | D39: =D5 -> 富来中 | F39: １８位 | G39: =入力シート!H51 -> 0 | H39: =入力シート!K51 -> 0 | I39: =I5 -> 富来中 | L39: =入力シート!Q33 -> 0 | M39: =入力シート!T33 -> 0 | N39: =N5 -> 富来中 | Q39: =入力シート!Y33 -> 0 | R39: =入力シート!AB33 -> 0 | S39: =S5 -> 富来中
B40: =入力シート!B52 -> 0 | G40: =入力シート!H52 -> 0 | L40: =入力シート!Q34 -> 0 | Q40: =入力シート!Y34 -> 0
A41: １９位 | B41: =入力シート!B53 -> 0 | C41: =入力シート!E53 -> 0 | D41: =D5 -> 富来中 | F41: １９位 | G41: =入力シート!H53 -> 0 | H41: =入力シート!K53 -> 0 | I41: =I5 -> 富来中 | K41: １０位 | L41: =入力シート!N35 -> 0 | M41: =入力シート!P35 -> 0 | N41: =N5 -> 富来中 | P41: １０位 | Q41: =入力シート!V35 -> 0 | R41: =入力シート!X35 -> 0 | S41: =S5 -> 富来中
B42: =入力シート!B54 -> 0 | G42: =入力シート!H54 -> 0 | L42: =入力シート!N36 -> 0 | Q42: =入力シート!V36 -> 0
...

Sheet 個人アサミ
B1: =入力シート!E5 -> 富来中 | H1: =B1 -> 富来中 | N1: =B1 -> 富来中 | W1: =B1 -> 富来中
B3: シングルス | C3: 選 手 | D3: チーム | F3: ふりがな | H3: シングルス | I3: 選 手 | J3: チーム | L3: ふりがな | N3: ダブルス | O3: ペア１ | P3: ペア２ | Q3: チーム | R3: チーム | T3: ふりがな１ | U3: ふりがな２ | W3: ダブルス | X3: ペア１ | Y3: ペア２ | Z3: チーム | AA3: チーム | AC3: ふりがな１ | AD3: ふりがな２
A4: 1 | B4: BS | C4: ='個人プロ● さわらない'!B6 -> 0 | D4: =B1 -> 富来中 | E4: -1 | F4: ='個人プロ● さわらない'!B5 -> 0 | G4: 1 | H4: GS | I4: ='個人プロ● さわらない'!G6 -> 0 | J4: =H1 -> 富来中 | K4: -1 | L4: ='個人プロ● さわらない'!G5 -> 0 | M4: 1 | N4: BD | O4: ='個人プロ● さわらない'!L6 -> 0 | P4: ='個人プロ● さわらない'!L8 -> 0 | Q4: =B1 -> 富来中 | R4: =B1 -> 富来中 | S4: =-1 -> -1 | T4: ='個人プロ● さわらない'!L5 -> 0 | U4: ='個人プロ● さわらない'!L7 -> 0 | V4: 1 | W4: GD | X4: ='個人プロ● さわらない'!Q6 -> 0 | Y4: ='個人プロ● さわらない'!Q8 -> 0 | Z4: =B1 -> 富来中 | AA4: =B1 -> 富来中 | AB4: =-1 -> -1 | AC4: ='個人プロ● さわらない'!Q5 -> 0 | AD4: ='個人プロ● さわらない'!Q7 -> 0
A5: 2 | B5: BS | C5: ='個人プロ● さわらない'!B8 -> 0 | D5: =B1 -> 富来中 | E5: -1 | F5: ='個人プロ● さわらない'!B7 -> 0 | G5: 2 | H5: GS | I5: ='個人プロ● さわらない'!G8 -> 0 | J5: =H1 -> 富来中 | K5: -1 | L5: ='個人プロ● さわらない'!G7 -> 0 | M5: 2 | N5: BD | O5: ='個人プロ● さわらない'!L10 -> 0 | P5: ='個人プロ● さわらない'!L12 -> 0 | Q5: =B1 -> 富来中 | R5: =B1 -> 富来中 | S5: -1 | T5: ='個人プロ● さわらない'!L9 -> 0 | U5: ='個人プロ● さわらない'!L11 -> 0 | V5: 2 | W5: GD | X5: ='個人プロ● さわらない'!Q10 -> 0 | Y5: ='個人プロ● さわらない'!Q12 -> 0 | Z5: =B1 -> 富来中 | AA5: =B1 -> 富来中 | AB5: -1 | AC5: ='個人プロ● さわらない'!Q9 -> 0 | AD5: ='個人プロ● さわらない'!Q11 -> 0
A6: 3 | B6: BS | C6: ='個人プロ● さわらない'!B10 -> 0 | D6: =B1 -> 富来中 | E6: -1 | F6: ='個人プロ● さわらない'!B9 -> 0 | G6: 3 | H6: GS | I6: ='個人プロ● さわらない'!G10 -> 0 | J6: =H1 -> 富来中 | K6: -1 | L6: ='個人プロ● さわらない'!G9 -> 0 | M6: 3 | N6: BD | O6: ='個人プロ● さわらない'!L14 -> 0 | P6: ='個人プロ● さわらない'!L16 -> 0 | Q6: =B1 -> 富来中 | R6: =B1 -> 富来中 | S6: -1 | T6: ='個人プロ● さわらない'!L13 -> 0 | U6: ='個人プロ● さわらない'!L15 -> 0 | V6: 3 | W6: GD | X6: ='個人プロ● さわらない'!Q14 -> 0 | Y6: ='個人プロ● さわらない'!Q16 -> 0 | Z6: =B1 -> 富来中 | AA6: =B1 -> 富来中 | AB6: -1 | AC6: ='個人プロ● さわらない'!Q13 -> 0 | AD6: ='個人プロ● さわらない'!Q15 -> 0
A7: 4 | B7: BS | C7: ='個人プロ● さわらない'!B12 -> 0 | D7: =B1 -> 富来中 | E7: -1 | F7: ='個人プロ● さわらない'!B11 -> 0 | G7: 4 | H7: GS | I7: ='個人プロ● さわらない'!G12 -> 0 | J7: =H1 -> 富来中 | K7: -1 | L7: ='個人プロ● さわらない'!G11 -> 0 | M7: 4 | N7: BD | O7: ='個人プロ● さわらない'!L18 -> 0 | P7: ='個人プロ● さわらない'!L20 -> 0 | Q7: =B1 -> 富来中 | R7: =B1 -> 富来中 | S7: -1 | T7: ='個人プロ● さわらない'!L17 -> 0 | U7: ='個人プロ● さわらない'!L19 -> 0 | V7: 4 | W7: GD | X7: ='個人プロ● さわらない'!Q18 -> 0 | Y7: ='個人プロ● さわらない'!Q20 -> 0 | Z7: =B1 -> 富来中 | AA7: =B1 -> 富来中 | AB7: -1 | AC7: ='個人プロ● さわらない'!Q17 -> 0 | AD7: ='個人プロ● さわらない'!Q19 -> 0
A8: 5 | B8: BS | C8: ='個人プロ● さわらない'!B14 -> 0 | D8: =B1 -> 富来中 | E8: -1 | F8: ='個人プロ● さわらない'!B13 -> 0 | G8: 5 | H8: GS | I8: ='個人プロ● さわらない'!G14 -> 0 | J8: =H1 -> 富来中 | K8: -1 | L8: ='個人プロ● さわらない'!G13 -> 0 | M8: 5 | N8: BD | O8: ='個人プロ● さわらない'!L22 -> 0 | P8: ='個人プロ● さわらない'!L24 -> 0 | Q8: =B1 -> 富来中 | R8: =B1 -> 富来中 | S8: -1 | T8: ='個人プロ● さわらない'!L21 -> 0 | U8: ='個人プロ● さわらない'!L23 -> 0 | V8: 5 | W8: GD | X8: ='個人プロ● さわらない'!Q22 -> 0 | Y8: ='個人プロ● さわらない'!Q24 -> 0 | Z8: =B1 -> 富来中 | AA8: =B1 -> 富来中 | AB8: -1 | AC8: ='個人プロ● さわらない'!Q21 -> 0 | AD8: ='個人プロ● さわらない'!Q23 -> 0
A9: 6 | B9: BS | C9: ='個人プロ● さわらない'!B16 -> 0 | D9: =B1 -> 富来中 | E9: -1 | F9: ='個人プロ● さわらない'!B15 -> 0 | G9: 6 | H9: GS | I9: ='個人プロ● さわらない'!G16 -> 0 | J9: =H1 -> 富来中 | K9: -1 | L9: ='個人プロ● さわらない'!G15 -> 0 | M9: 6 | N9: BD | O9: ='個人プロ● さわらない'!L26 -> 0 | P9: ='個人プロ● さわらない'!L28 -> 0 | Q9: =B1 -> 富来中 | R9: =B1 -> 富来中 | S9: -1 | T9: ='個人プロ● さわらない'!L25 -> 0 | U9: ='個人プロ● さわらない'!L27 -> 0 | V9: 6 | W9: GD | X9: ='個人プロ● さわらない'!Q26 -> 0 | Y9: ='個人プロ● さわらない'!Q28 -> 0 | Z9: =B1 -> 富来中 | AA9: =B1 -> 富来中 | AB9: -1 | AC9: ='個人プロ● さわらない'!Q25 -> 0 | AD9: ='個人プロ● さわらない'!Q27 -> 0
A10: 7 | B10: BS | C10: ='個人プロ● さわらない'!B18 -> 0 | D10: =B1 -> 富来中 | E10: -1 | F10: ='個人プロ● さわらない'!B17 -> 0 | G10: 7 | H10: GS | I10: ='個人プロ● さわらない'!G18 -> 0 | J10: =H1 -> 富来中 | K10: -1 | L10: ='個人プロ● さわらない'!G17 -> 0 | M10: 7 | N10: BD | O10: ='個人プロ● さわらない'!L30 -> 0 | P10: ='個人プロ● さわらない'!L32 -> 0 | Q10: =B1 -> 富来中 | R10: =B1 -> 富来中 | S10: -1 | T10: ='個人プロ● さわらない'!L29 -> 0 | U10: ='個人プロ● さわらない'!L31 -> 0 | V10: 7 | W10: GD | X10: ='個人プロ● さわらない'!Q30 -> 0 | Y10: ='個人プロ● さわらない'!Q32 -> 0 | Z10: =B1 -> 富来中 | AA10: =B1 -> 富来中 | AB10: -1 | AC10: ='個人プロ● さわらない'!Q29 -> 0 | AD10: ='個人プロ● さわらない'!Q31 -> 0
A11: 8 | B11: BS | C11: ='個人プロ● さわらない'!B20 -> 0 | D11: =B1 -> 富来中 | E11: -1 | F11: ='個人プロ● さわらない'!B19 -> 0 | G11: 8 | H11: GS | I11: ='個人プロ● さわらない'!G20 -> 0 | J11: =H1 -> 富来中 | K11: -1 | L11: ='個人プロ● さわらない'!G19 -> 0 | M11: 8 | N11: BD | O11: ='個人プロ● さわらない'!L34 -> 0 | P11: ='個人プロ● さわらない'!L36 -> 0 | Q11: =B1 -> 富来中 | R11: =B1 -> 富来中 | S11: -1 | T11: ='個人プロ● さわらない'!L33 -> 0 | U11: ='個人プロ● さわらない'!L35 -> 0 | V11: 8 | W11: GD | X11: ='個人プロ● さわらない'!Q34 -> 0 | Y11: ='個人プロ● さわらない'!Q36 -> 0 | Z11: =B1 -> 富来中 | AA11: =B1 -> 富来中 | AB11: -1 | AC11: ='個人プロ● さわらない'!Q33 -> 0 | AD11: ='個人プロ● さわらない'!Q35 -> 0
A12: 9 | B12: BS | C12: ='個人プロ● さわらない'!B22 -> 0 | D12: =B1 -> 富来中 | E12: -1 | F12: ='個人プロ● さわらない'!B21 -> 0 | G12: 9 | H12: GS | I12: ='個人プロ● さわらない'!G22 -> 0 | J12: =H1 -> 富来中 | K12: -1 | L12: ='個人プロ● さわらない'!G21 -> 0 | M12: 9 | N12: BD | O12: ='個人プロ● さわらない'!L38 -> 0 | P12: ='個人プロ● さわらない'!L40 -> 0 | Q12: =B1 -> 富来中 | R12: =B1 -> 富来中 | S12: -1 | T12: ='個人プロ● さわらない'!L37 -> 0 | U12: ='個人プロ● さわらない'!L39 -> 0 | V12: 9 | W12: GD | X12: ='個人プロ● さわらない'!Q38 -> 0 | Y12: ='個人プロ● さわらない'!Q40 -> 0 | Z12: =B1 -> 富来中 | AA12: =B1 -> 富来中 | AB12: -1 | AC12: ='個人プロ● さわらない'!Q37 -> 0 | AD12: ='個人プロ● さわらない'!Q39 -> 0
A13: 10 | B13: BS | C13: ='個人プロ● さわらない'!B24 -> 0 | D13: =B1 -> 富来中 | E13: -1 | F13: ='個人プロ● さわらない'!B23 -> 0 | G13: 10 | H13: GS | I13: ='個人プロ● さわらない'!G24 -> 0 | J13: =H1 -> 富来中 | K13: -1 | L13: ='個人プロ● さわらない'!G23 -> 0 | M13: 10 | N13: BD | O13: ='個人プロ● さわらない'!L42 -> 0 | P13: ='個人プロ● さわらない'!L44 -> 0 | Q13: =B1 -> 富来中 | R13: =B1 -> 富来中 | S13: -1 | T13: ='個人プロ● さわらない'!L41 -> 0 | U13: ='個人プロ● さわらない'!L43 -> 0 | V13: 10 | W13: GD | X13: ='個人プロ● さわらない'!Q42 -> 0 | Y13: ='個人プロ● さわらない'!Q44 -> 0 | Z13: =B1 -> 富来中 | AA13: =B1 -> 富来中 | AB13: -1 | AC13: ='個人プロ● さわらない'!Q41 -> 0 | AD13: ='個人プロ● さわらない'!Q43 -> 0
A14: 11 | B14: BS | C14: ='個人プロ● さわらない'!B26 -> 0 | D14: =B1 -> 富来中 | E14: -1 | F14: ='個人プロ● さわらない'!B25 -> 0 | G14: 11 | H14: GS | I14: ='個人プロ● さわらない'!G26 -> 0 | J14: =H1 -> 富来中 | K14: -1 | L14: ='個人プロ● さわらない'!G25 -> 0 | M14: 11 | N14: BD | O14: ='個人プロ● さわらない'!L46 -> 0 | P14: ='個人プロ● さわらない'!L48 -> 0 | Q14: =B1 -> 富来中 | R14: =B1 -> 富来中 | S14: -1 | T14: ='個人プロ● さわらない'!L45 -> 0 | U14: ='個人プロ● さわらない'!L47 -> 0 | V14: 11 | W14: GD | X14: ='個人プロ● さわらない'!Q46 -> 0 | Y14: ='個人プロ● さわらない'!Q48 -> 0 | Z14: =B1 -> 富来中 | AA14: =B1 -> 富来中 | AB14: -1 | AC14: ='個人プロ● さわらない'!Q45 -> 0 | AD14: ='個人プロ● さわらない'!Q47 -> 0
A15: 12 | B15: BS | C15: ='個人プロ● さわらない'!B28 -> 0 | D15: =B1 -> 富来中 | E15: -1 | F15: ='個人プロ● さわらない'!B27 -> 0 | G15: 12 | H15: GS | I15: ='個人プロ● さわらない'!G28 -> 0 | J15: =H1 -> 富来中 | K15: -1 | L15: ='個人プロ● さわらない'!G27 -> 0 | M15: 12 | N15: BD | O15: ='個人プロ● さわらない'!L50 -> 0 | P15: ='個人プロ● さわらない'!L52 -> 0 | Q15: =B1 -> 富来中 | R15: =B1 -> 富来中 | S15: -1 | T15: ='個人プロ● さわらない'!L49 -> 0 | U15: ='個人プロ● さわらない'!L51 -> 0 | V15: 12 | W15: GD | X15: ='個人プロ● さわらない'!Q50 -> 0 | Y15: ='個人プロ● さわらない'!Q52 -> 0 | Z15: =B1 -> 富来中 | AA15: =B1 -> 富来中 | AB15: -1 | AC15: ='個人プロ● さわらない'!Q49 -> 0 | AD15: ='個人プロ● さわらない'!Q51 -> 0
A16: 13 | B16: BS | C16: ='個人プロ● さわらない'!B30 -> 0 | D16: =B1 -> 富来中 | E16: -1 | F16: ='個人プロ● さわらない'!B29 -> 0 | G16: 13 | H16: GS | I16: ='個人プロ● さわらない'!G30 -> 0 | J16: =H1 -> 富来中 | K16: -1 | L16: ='個人プロ● さわらない'!G29 -> 0 | M16: 13 | N16: BD | O16: ='個人プロ● さわらない'!L54 -> 0 | P16: ='個人プロ● さわらない'!L56 -> 0 | Q16: =B1 -> 富来中 | R16: =B1 -> 富来中 | S16: -1 | T16: ='個人プロ● さわらない'!L53 -> 0 | U16: ='個人プロ● さわらない'!L55 -> 0 | V16: 13 | W16: GD | X16: ='個人プロ● さわらない'!Q54 -> 0 | Y16: ='個人プロ● さわらない'!Q56 -> 0 | Z16: =B1 -> 富来中 | AA16: =B1 -> 富来中 | AB16: -1 | AC16: ='個人プロ● さわらない'!Q53 -> 0 | AD16: ='個人プロ● さわらない'!Q55 -> 0
A17: 14 | B17: BS | C17: ='個人プロ● さわらない'!B32 -> 0 | D17: =B1 -> 富来中 | E17: -1 | F17: ='個人プロ● さわらない'!B31 -> 0 | G17: 14 | H17: GS | I17: ='個人プロ● さわらない'!G32 -> 0 | J17: =H1 -> 富来中 | K17: -1 | L17: ='個人プロ● さわらない'!G31 -> 0 | M17: 14 | N17: BD | O17: ='個人プロ● さわらない'!L58 -> 0 | P17: ='個人プロ● さわらない'!L60 -> 0 | Q17: =B1 -> 富来中 | R17: =B1 -> 富来中 | S17: -1 | T17: ='個人プロ● さわらない'!L57 -> 0 | U17: ='個人プロ● さわらない'!L59 -> 0 | V17: 14 | W17: GD | X17: ='個人プロ● さわらない'!Q58 -> 0 | Y17: ='個人プロ● さわらない'!Q60 -> 0 | Z17: =B1 -> 富来中 | AA17: =B1 -> 富来中 | AB17: -1 | AC17: ='個人プロ● さわらない'!Q57 -> 0 | AD17: ='個人プロ● さわらない'!Q59 -> 0
A18: 15 | B18: BS | C18: ='個人プロ● さわらない'!B34 -> 0 | D18: =B1 -> 富来中 | E18: -1 | F18: ='個人プロ● さわらない'!B33 -> 0 | G18: 15 | H18: GS | I18: ='個人プロ● さわらない'!G34 -> 0 | J18: =H1 -> 富来中 | K18: -1 | L18: ='個人プロ● さわらない'!G33 -> 0 | M18: 15 | N18: BD | O18: ='個人プロ● さわらない'!L62 -> 0 | P18: ='個人プロ● さわらない'!L64 -> 0 | Q18: =B1 -> 富来中 | R18: =B1 -> 富来中 | S18: -1 | T18: ='個人プロ● さわらない'!L61 -> 0 | U18: ='個人プロ● さわらない'!L63 -> 0 | V18: 15 | W18: GD | X18: ='個人プロ● さわらない'!Q62 -> 0 | Y18: ='個人プロ● さわらない'!Q64 -> 0 | Z18: =B1 -> 富来中 | AA18: =B1 -> 富来中 | AB18: -1 | AC18: ='個人プロ● さわらない'!Q61 -> 0 | AD18: ='個人プロ● さわらない'!Q63 -> 0
A19: 16 | B19: BS | C19: ='個人プロ● さわらない'!B36 -> 0 | D19: =B1 -> 富来中 | E19: -1 | F19: ='個人プロ● さわらない'!B35 -> 0 | G19: 16 | H19: GS | I19: ='個人プロ● さわらない'!G36 -> 0 | J19: =H1 -> 富来中 | K19: -1 | L19: ='個人プロ● さわらない'!G35 -> 0 | M19: 16 | N19: BD | O19: ='個人プロ● さわらない'!L66 -> 0 | P19: ='個人プロ● さわらない'!L68 -> 0 | Q19: =B1 -> 富来中 | R19: =B1 -> 富来中 | S19: -1 | T19: ='個人プロ● さわらない'!L65 -> 0 | U19: ='個人プロ● さわらない'!L67 -> 0 | V19: 16 | W19: GD | X19: ='個人プロ● さわらない'!Q66 -> 0 | Y19: ='個人プロ● さわらない'!Q68 -> 0 | Z19: =B1 -> 富来中 | AA19: =B1 -> 富来中 | AB19: -1 | AC19: ='個人プロ● さわらない'!Q65 -> 0 | AD19: ='個人プロ● さわらない'!Q67 -> 0
A20: 17 | B20: BS | C20: ='個人プロ● さわらない'!B38 -> 0 | D20: =B1 -> 富来中 | E20: -1 | F20: ='個人プロ● さわらない'!B37 -> 0 | G20: 17 | H20: GS | I20: ='個人プロ● さわらない'!G38 -> 0 | J20: =H1 -> 富来中 | K20: -1 | L20: ='個人プロ● さわらない'!G37 -> 0 | M20: 17 | N20: BD | O20: ='個人プロ● さわらない'!L70 -> 0 | P20: ='個人プロ● さわらない'!L72 -> 0 | Q20: =B1 -> 富来中 | R20: =B1 -> 富来中 | S20: -1 | T20: ='個人プロ● さわらない'!L69 -> 0 | U20: ='個人プロ● さわらない'!L71 -> 0 | V20: 17 | W20: GD | X20: ='個人プロ● さわらない'!Q70 -> 0 | Y20: ='個人プロ● さわらない'!Q72 -> 0 | Z20: =B1 -> 富来中 | AA20: =B1 -> 富来中 | AB20: -1 | AC20: ='個人プロ● さわらない'!Q69 -> 0 | AD20: ='個人プロ● さわらない'!Q71 -> 0
A21: 18 | B21: BS | C21: ='個人プロ● さわらない'!B40 -> 0 | D21: =B1 -> 富来中 | E21: -1 | F21: ='個人プロ● さわらない'!B39 -> 0 | G21: 18 | H21: GS | I21: ='個人プロ● さわらない'!G40 -> 0 | J21: =H1 -> 富来中 | K21: -1 | L21: ='個人プロ● さわらない'!G39 -> 0 | M21: 18 | N21: BD | O21: ='個人プロ● さわらない'!L74 -> 0 | P21: ='個人プロ● さわらない'!L76 -> 0 | Q21: =B1 -> 富来中 | R21: =B1 -> 富来中 | S21: -1 | T21: ='個人プロ● さわらない'!L73 -> 0 | U21: ='個人プロ● さわらない'!L75 -> 0 | V21: 18 | W21: GD | X21: ='個人プロ● さわらない'!Q74 -> 0 | Y21: ='個人プロ● さわらない'!Q76 -> 0 | Z21: =B1 -> 富来中 | AA21: =B1 -> 富来中 | AB21: -1 | AC21: ='個人プロ● さわらない'!Q73 -> 0 | AD21: ='個人プロ● さわらない'!Q75 -> 0
A22: 19 | B22: BS | C22: ='個人プロ● さわらない'!B42 -> 0 | D22: =B1 -> 富来中 | E22: -1 | F22: ='個人プロ● さわらない'!B41 -> 0 | G22: 19 | H22: GS | I22: ='個人プロ● さわらない'!G42 -> 0 | J22: =H1 -> 富来中 | K22: -1 | L22: ='個人プロ● さわらない'!G41 -> 0 | M22: 19 | N22: BD | O22: ='個人プロ● さわらない'!L78 -> 0 | P22: ='個人プロ● さわらない'!L80 -> 0 | Q22: =B1 -> 富来中 | R22: =B1 -> 富来中 | S22: -1 | T22: ='個人プロ● さわらない'!L77 -> 0 | U22: ='個人プロ● さわらない'!L79 -> 0 | V22: 19 | W22: GD | X22: ='個人プロ● さわらない'!Q78 -> 0 | Y22: ='個人プロ● さわらない'!Q80 -> 0 | Z22: =B1 -> 富来中 | AA22: =B1 -> 富来中 | AB22: -1 | AC22: ='個人プロ● さわらない'!Q77 -> 0 | AD22: ='個人プロ● さわらない'!Q79 -> 0
A23: 20 | B23: BS | C23: ='個人プロ● さわらない'!B44 -> 0 | D23: =B1 -> 富来中 | E23: -1 | F23: ='個人プロ● さわらない'!B43 -> 0 | G23: 20 | H23: GS | I23: ='個人プロ● さわらない'!G44 -> 0 | J23: =H1 -> 富来中 | K23: -1 | L23: ='個人プロ● さわらない'!G43 -> 0 | M23: 20 | N23: BD | O23: ='個人プロ● さわらない'!L82 -> 0 | P23: ='個人プロ● さわらない'!L84 -> 0 | Q23: =B1 -> 富来中 | R23: =B1 -> 富来中 | S23: -1 | T23: ='個人プロ● さわらない'!L81 -> 0 | U23: ='個人プロ● さわらない'!L83 -> 0 | V23: 20 | W23: GD | X23: ='個人プロ● さわらない'!Q82 -> 0 | Y23: ='個人プロ● さわらない'!Q84 -> 0 | Z23: =B1 -> 富来中 | AA23: =B1 -> 富来中 | AB23: -1 | AC23: ='個人プロ● さわらない'!Q81 -> 0 | AD23: ='個人プロ● さわらない'!Q83 -> 0
A24: 21 | B24: BS | C24: ='個人プロ● さわらない'!B46 -> 0 | D24: =B1 -> 富来中 | E24: -1 | F24: ='個人プロ● さわらない'!B45 -> 0 | G24: 21 | H24: GS | I24: ='個人プロ● さわらない'!G46 -> 0 | J24: =H1 -> 富来中 | K24: -1 | L24: ='個人プロ● さわらない'!G45 -> 0 | M24: 21 | N24: BD | O24: ='個人プロ● さわらない'!L86 -> 0 | P24: ='個人プロ● さわらない'!L88 -> 0 | Q24: =B1 -> 富来中 | R24: =B1 -> 富来中 | S24: -1 | T24: ='個人プロ● さわらない'!L85 -> 0 | U24: ='個人プロ● さわらない'!L87 -> 0 | V24: 21 | W24: GD | X24: ='個人プロ● さわらない'!Q86 -> 0 | Y24: ='個人プロ● さわらない'!Q88 -> 0 | Z24: =B1 -> 富来中 | AA24: =B1 -> 富来中 | AB24: -1 | AC24: ='個人プロ● さわらない'!Q85 -> 0 | AD24: ='個人プロ● さわらない'!Q87 -> 0
A25: 22 | B25: BS | C25: ='個人プロ● さわらない'!B48 -> 0 | D25: =B1 -> 富来中 | E25: -1 | F25: ='個人プロ● さわらない'!B47 -> 0 | G25: 22 | H25: GS | I25: ='個人プロ● さわらない'!G48 -> 0 | J25: =H1 -> 富来中 | K25: -1 | L25: ='個人プロ● さわらない'!G47 -> 0 | M25: 22 | N25: BD | O25: ='個人プロ● さわらない'!L90 -> 0 | P25: ='個人プロ● さわらない'!L92 -> 0 | Q25: =B1 -> 富来中 | R25: =B1 -> 富来中 | S25: -1 | T25: ='個人プロ● さわらない'!L89 -> 0 | U25: ='個人プロ● さわらない'!L91 -> 0 | V25: 22 | W25: GD | X25: ='個人プロ● さわらない'!Q90 -> 0 | Y25: ='個人プロ● さわらない'!Q92 -> 0 | Z25: =B1 -> 富来中 | AA25: =B1 -> 富来中 | AB25: -1 | AC25: ='個人プロ● さわらない'!Q89 -> 0 | AD25: ='個人プロ● さわらない'!Q91 -> 0
A26: 23 | B26: BS | C26: ='個人プロ● さわらない'!B50 -> 0 | D26: =B1 -> 富来中 | E26: -1 | F26: ='個人プロ● さわらない'!B49 -> 0 | G26: 23 | H26: GS | I26: ='個人プロ● さわらない'!G50 -> 0 | J26: =H1 -> 富来中 | K26: -1 | L26: ='個人プロ● さわらない'!G49 -> 0 | M26: 23 | N26: BD | O26: ='個人プロ● さわらない'!L94 -> 0 | P26: ='個人プロ● さわらない'!L96 -> 0 | Q26: =B1 -> 富来中 | R26: =B1 -> 富来中 | S26: -1 | T26: ='個人プロ● さわらない'!L93 -> 0 | U26: ='個人プロ● さわらない'!L95 -> 0 | V26: 23 | W26: GD | X26: ='個人プロ● さわらない'!Q94 -> 0 | Y26: ='個人プロ● さわらない'!Q96 -> 0 | Z26: =B1 -> 富来中 | AA26: =B1 -> 富来中 | AB26: -1 | AC26: ='個人プロ● さわらない'!Q93 -> 0 | AD26: ='個人プロ● さわらない'!Q95 -> 0
A27: 24 | B27: BS | C27: ='個人プロ● さわらない'!B52 -> 0 | D27: =B1 -> 富来中 | E27: -1 | F27: ='個人プロ● さわらない'!B51 -> 0 | G27: 24 | H27: GS | I27: ='個人プロ● さわらない'!G52 -> 0 | J27: =H1 -> 富来中 | K27: -1 | L27: ='個人プロ● さわらない'!G51 -> 0 | M27: 24 | N27: BD | O27: ='個人プロ● さわらない'!L98 -> 0 | P27: ='個人プロ● さわらない'!L100 -> 0 | Q27: =B1 -> 富来中 | R27: =B1 -> 富来中 | S27: -1 | T27: ='個人プロ● さわらない'!L97 -> 0 | U27: ='個人プロ● さわらない'!L99 -> 0 | V27: 24 | W27: GD | X27: ='個人プロ● さわらない'!Q98 -> 0 | Y27: ='個人プロ● さわらない'!Q100 -> 0 | Z27: =B1 -> 富来中 | AA27: =B1 -> 富来中 | AB27: -1 | AC27: ='個人プロ● さわらない'!Q97 -> 0 | AD27: ='個人プロ● さわらない'!Q99 -> 0
A28: 25 | B28: BS | C28: ='個人プロ● さわらない'!B54 -> 0 | D28: =B1 -> 富来中 | E28: -1 | F28: ='個人プロ● さわらない'!B53 -> 0 | G28: 25 | H28: GS | I28: ='個人プロ● さわらない'!G54 -> 0 | J28: =H1 -> 富来中 | K28: -1 | L28: ='個人プロ● さわらない'!G53 -> 0 | M28: 25 | N28: BD | O28: ='個人プロ● さわらない'!L102 -> 0 | P28: ='個人プロ● さわらない'!L104 -> 0 | Q28: =B1 -> 富来中 | R28: =B1 -> 富来中 | S28: -1 | T28: ='個人プロ● さわらない'!L101 -> 0 | U28: ='個人プロ● さわらない'!L103 -> 0 | V28: 25 | W28: GD | X28: ='個人プロ● さわらない'!Q102 -> 0 | Y28: ='個人プロ● さわらない'!Q104 -> 0 | Z28: =B1 -> 富来中 | AA28: =B1 -> 富来中 | AB28: -1 | AC28: ='個人プロ● さわらない'!Q101 -> 0 | AD28: ='個人プロ● さわらない'!Q103 -> 0
A29: 26 | B29: BS | C29: ='個人プロ● さわらない'!B56 -> 0 | D29: =B1 -> 富来中 | E29: -1 | F29: ='個人プロ● さわらない'!B55 -> 0 | G29: 26 | H29: GS | I29: ='個人プロ● さわらない'!G56 -> 0 | J29: =H1 -> 富来中 | K29: -1 | L29: ='個人プロ● さわらない'!G55 -> 0 | M29: 26 | N29: BD | O29: ='個人プロ● さわらない'!L106 -> 0 | P29: ='個人プロ● さわらない'!L108 -> 0 | Q29: =B1 -> 富来中 | R29: =B1 -> 富来中 | S29: -1 | T29: ='個人プロ● さわらない'!L105 -> 0 | U29: ='個人プロ● さわらない'!L107 -> 0 | V29: 26 | W29: GD | X29: ='個人プロ● さわらない'!Q106 -> 0 | Y29: ='個人プロ● さわらない'!Q108 -> 0 | Z29: =B1 -> 富来中 | AA29: =B1 -> 富来中 | AB29: -1 | AC29: ='個人プロ● さわらない'!Q105 -> 0 | AD29: ='個人プロ● さわらない'!Q107 -> 0
A30: 27 | B30: BS | C30: ='個人プロ● さわらない'!B58 -> 0 | D30: =B1 -> 富来中 | E30: -1 | F30: ='個人プロ● さわらない'!B57 -> 0 | G30: 27 | H30: GS | I30: ='個人プロ● さわらない'!G58 -> 0 | J30: =H1 -> 富来中 | K30: -1 | L30: ='個人プロ● さわらない'!G57 -> 0 | M30: 27 | N30: BD | O30: ='個人プロ● さわらない'!L110 -> 0 | P30: ='個人プロ● さわらない'!L112 -> 0 | Q30: =B1 -> 富来中 | R30: =B1 -> 富来中 | S30: -1 | T30: ='個人プロ● さわらない'!L109 -> 0 | U30: ='個人プロ● さわらない'!L111 -> 0 | V30: 27 | W30: GD | X30: ='個人プロ● さわらない'!Q110 -> 0 | Y30: ='個人プロ● さわらない'!Q112 -> 0 | Z30: =B1 -> 富来中 | AA30: =B1 -> 富来中 | AB30: -1 | AC30: ='個人プロ● さわらない'!Q109 -> 0 | AD30: ='個人プロ● さわらない'!Q111 -> 0
A31: 28 | B31: BS | C31: ='個人プロ● さわらない'!B60 -> 0 | D31: =B1 -> 富来中 | E31: -1 | F31: ='個人プロ● さわらない'!B59 -> 0 | G31: 28 | H31: GS | I31: ='個人プロ● さわらない'!G60 -> 0 | J31: =H1 -> 富来中 | K31: -1 | L31: ='個人プロ● さわらない'!G59 -> 0 | M31: 28 | N31: BD | O31: ='個人プロ● さわらない'!L114 -> 0 | P31: ='個人プロ● さわらない'!L116 -> 0 | Q31: =B1 -> 富来中 | R31: =B1 -> 富来中 | S31: -1 | T31: ='個人プロ● さわらない'!L113 -> 0 | U31: ='個人プロ● さわらない'!L115 -> 0 | V31: 28 | W31: GD | X31: ='個人プロ● さわらない'!Q114 -> 0 | Y31: ='個人プロ● さわらない'!Q116 -> 0 | Z31: =B1 -> 富来中 | AA31: =B1 -> 富来中 | AB31: -1 | AC31: ='個人プロ● さわらない'!Q113 -> 0 | AD31: ='個人プロ● さわらない'!Q115 -> 0
A32: 29 | B32: BS | C32: ='個人プロ● さわらない'!B62 -> 0 | D32: =B1 -> 富来中 | E32: -1 | F32: ='個人プロ● さわらない'!B61 -> 0 | G32: 29 | H32: GS | I32: ='個人プロ● さわらない'!G62 -> 0 | J32: =H1 -> 富来中 | K32: -1 | L32: ='個人プロ● さわらない'!G61 -> 0 | M32: 29 | N32: BD | O32: ='個人プロ● さわらない'!L118 -> 0 | P32: ='個人プロ● さわらない'!L120 -> 0 | Q32: =B1 -> 富来中 | R32: =B1 -> 富来中 | S32: -1 | T32: ='個人プロ● さわらない'!L117 -> 0 | U32: ='個人プロ● さわらない'!L119 -> 0 | V32: 29 | W32: GD | X32: ='個人プロ● さわらない'!Q118 -> 0 | Y32: ='個人プロ● さわらない'!Q120 -> 0 | Z32: =B1 -> 富来中 | AA32: =B1 -> 富来中 | AB32: -1 | AC32: ='個人プロ● さわらない'!Q117 -> 0 | AD32: ='個人プロ● さわらない'!Q119 -> 0
A33: 30 | B33: BS | C33: ='個人プロ● さわらない'!B64 -> 0 | D33: =B1 -> 富来中 | E33: -1 | F33: ='個人プロ● さわらない'!B63 -> 0 | G33: 30 | H33: GS | I33: ='個人プロ● さわらない'!G64 -> 0 | J33: =H1 -> 富来中 | K33: -1 | L33: ='個人プロ● さわらない'!G63 -> 0 | M33: 30 | N33: BD | O33: ='個人プロ● さわらない'!L122 -> 0 | P33: ='個人プロ● さわらない'!L124 -> 0 | Q33: =B1 -> 富来中 | R33: =B1 -> 富来中 | S33: -1 | T33: ='個人プロ● さわらない'!L121 -> 0 | U33: ='個人プロ● さわらない'!L123 -> 0 | V33: 30 | W33: GD | X33: ='個人プロ● さわらない'!Q122 -> 0 | Y33: ='個人プロ● さわらない'!Q124 -> 0 | Z33: =B1 -> 富来中 | AA33: =B1 -> 富来中 | AB33: -1 | AC33: ='個人プロ● さわらない'!Q121 -> 0 | AD33: ='個人プロ● さわらない'!Q123 -> 0
A36: 1 | B36: =+B4&","&C4&","&D4&","&E4&","&F4&"" -> BS,0,富来中,-1,0 | G36: 1 | H36: =+H4&","&I4&","&J4&","&K4&","&L4&"" -> GS,0,富来中,-1,0 | M36: 1 | N36: =+N4&","&O4&","&P4&","&Q4&","&R4&","&S4&","&T4&","&U4 -> BD,0,0,富来中,富来中,-1,0,0 | V36: 1 | W36: =+W4&","&X4&","&Y4&","&Z4&","&AA4&","&AB4&","&AC4&","&AD4 -> GD,0,0,富来中,富来中,-1,0,0
A37: 2 | B37: =+B5&","&C5&","&D5&","&E5&","&F5&"" -> BS,0,富来中,-1,0 | G37: 2 | H37: =+H5&","&I5&","&J5&","&K5&","&L5&"" -> GS,0,富来中,-1,0 | M37: 2 | N37: =+N5&","&O5&","&P5&","&Q5&","&R5&","&S5&","&T5&","&U5 -> BD,0,0,富来中,富来中,-1,0,0 | V37: 2 | W37: =+W5&","&X5&","&Y5&","&Z5&","&AA5&","&AB5&","&AC5&","&AD5 -> GD,0,0,富来中,富来中,-1,0,0
A38: 3 | B38: =+B6&","&C6&","&D6&","&E6&","&F6&"" -> BS,0,富来中,-1,0 | G38: 3 | H38: =+H6&","&I6&","&J6&","&K6&","&L6&"" -> GS,0,富来中,-1,0 | M38: 3 | N38: =+N6&","&O6&","&P6&","&Q6&","&R6&","&S6&","&T6&","&U6 -> BD,0,0,富来中,富来中,-1,0,0 | V38: 3 | W38: =+W6&","&X6&","&Y6&","&Z6&","&AA6&","&AB6&","&AC6&","&AD6 -> GD,0,0,富来中,富来中,-1,0,0
A39: 4 | B39: =+B7&","&C7&","&D7&","&E7&","&F7&"" -> BS,0,富来中,-1,0 | G39: 4 | H39: =+H7&","&I7&","&J7&","&K7&","&L7&"" -> GS,0,富来中,-1,0 | M39: 4 | N39: =+N7&","&O7&","&P7&","&Q7&","&R7&","&S7&","&T7&","&U7 -> BD,0,0,富来中,富来中,-1,0,0 | V39: 4 | W39: =+W7&","&X7&","&Y7&","&Z7&","&AA7&","&AB7&","&AC7&","&AD7 -> GD,0,0,富来中,富来中,-1,0,0
A40: 5 | B40: =+B8&","&C8&","&D8&","&E8&","&F8&"" -> BS,0,富来中,-1,0 | G40: 5 | H40: =+H8&","&I8&","&J8&","&K8&","&L8&"" -> GS,0,富来中,-1,0 | M40: 5 | N40: =+N8&","&O8&","&P8&","&Q8&","&R8&","&S8&","&T8&","&U8 -> BD,0,0,富来中,富来中,-1,0,0 | V40: 5 | W40: =+W8&","&X8&","&Y8&","&Z8&","&AA8&","&AB8&","&AC8&","&AD8 -> GD,0,0,富来中,富来中,-1,0,0
A41: 6 | B41: =+B9&","&C9&","&D9&","&E9&","&F9&"" -> BS,0,富来中,-1,0 | G41: 6 | H41: =+H9&","&I9&","&J9&","&K9&","&L9&"" -> GS,0,富来中,-1,0 | M41: 6 | N41: =+N9&","&O9&","&P9&","&Q9&","&R9&","&S9&","&T9&","&U9 -> BD,0,0,富来中,富来中,-1,0,0 | V41: 6 | W41: =+W9&","&X9&","&Y9&","&Z9&","&AA9&","&AB9&","&AC9&","&AD9 -> GD,0,0,富来中,富来中,-1,0,0
A42: 7 | B42: =+B10&","&C10&","&D10&","&E10&","&F10&"" -> BS,0,富来中,-1,0 | G42: 7 | H42: =+H10&","&I10&","&J10&","&K10&","&L10&"" -> GS,0,富来中,-1,0 | M42: 7 | N42: =+N10&","&O10&","&P10&","&Q10&","&R10&","&S10&","&T10&","&U10 -> BD,0,0,富来中,富来中,-1,0,0 | V42: 7 | W42: =+W10&","&X10&","&Y10&","&Z10&","&AA10&","&AB10&","&AC10&","&AD10 -> GD,0,0,富来中,富来中,-1,0,0
A43: 8 | B43: =+B11&","&C11&","&D11&","&E11&","&F11&"" -> BS,0,富来中,-1,0 | G43: 8 | H43: =+H11&","&I11&","&J11&","&K11&","&L11&"" -> GS,0,富来中,-1,0 | M43: 8 | N43: =+N11&","&O11&","&P11&","&Q11&","&R11&","&S11&","&T11&","&U11 -> BD,0,0,富来中,富来中,-1,0,0 | V43: 8 | W43: =+W11&","&X11&","&Y11&","&Z11&","&AA11&","&AB11&","&AC11&","&AD11 -> GD,0,0,富来中,富来中,-1,0,0
...
